BEGIN:VCALENDAR
VERSION:2.0
PRODID:SchoolNow
CALSCALE:GREGORIAN
BEGIN:VEVENT
UID:b4aa008a-c572-11f0-a990-02a24fa18703
DTSTAMP:20260406T182102Z
SUMMARY:CDD Board Meeting - Oct. 2025
LOCATION:2005 Pan Am Circle\, Suite 300\, Tampa\, FL 33607
URL;VALUE=URI:https://www.tworiverssouthcdd.com/calendar/8803724/cdd-board-
 meeting-oct-2025
DTSTART:20251002T180000Z
DTEND:20251002T190000Z
ATTACH;FILENAME=2025-10-02 Two Rivers South Agenda.pdf;FMTTYPE=application/
 pdf:https://campussuite-storage.s3.amazonaws.com/prod/1559311/f3b77aac-bb2
 f-11f0-9be6-0affd0ed08b3/3087007/288b24e6-31e5-11f1-90a9-0affd084ed97/file
 /2025-10-02 Two Rivers South Agenda.pdf
END:VEVENT
END:VCALENDAR
