BEGIN:VCALENDAR
VERSION:2.0
PRODID:SchoolNow
CALSCALE:GREGORIAN
BEGIN:VEVENT
UID:c221ff06-c572-11f0-a9e4-0affe72d166b
DTSTAMP:20260406T182117Z
SUMMARY:CDD Board Meeting - Nov. 2025
LOCATION:2005 Pan Am Circle\, Suite 300\, Tampa\, FL 33607
URL;VALUE=URI:https://www.tworiverssouthcdd.com/calendar/8803726/cdd-board-
 meeting-nov-2025
DTSTART:20251106T190000Z
DTEND:20251106T200000Z
ATTACH;FILENAME=2025-11-06 Two Rivers South Agenda.pdf;FMTTYPE=application/
 pdf:https://campussuite-storage.s3.amazonaws.com/prod/1559311/f3b77aac-bb2
 f-11f0-9be6-0affd0ed08b3/3087006/288b2446-31e5-11f1-8240-0affd084ed97/file
 /2025-11-06 Two Rivers South Agenda.pdf
END:VEVENT
END:VCALENDAR
