BEGIN:VCALENDAR
VERSION:2.0
PRODID:SchoolNow
CALSCALE:GREGORIAN
BEGIN:VEVENT
UID:cb13ba1e-c572-11f0-b2b0-0affdcfcd8a3
DTSTAMP:20251204T174952Z
SUMMARY:CDD Board Meeting - Dec. 2025
LOCATION:2005 Pan Am Circle\, Suite 300\, Tampa\, FL 33607
URL;VALUE=URI:https://www.tworiverssouthcdd.com/calendar/8803727/cdd-board-
 meeting-dec-2025
DTSTART:20251204T190000Z
DTEND:20251204T200000Z
ATTACH;FILENAME=2025-12-04 Two Rivers South Agenda.pdf;FMTTYPE=application/
 pdf:https://campussuite-storage.s3.amazonaws.com/prod/1559311/f3b77aac-bb2
 f-11f0-9be6-0affd0ed08b3/3047414/634e3fda-d139-11f0-aba4-02a7becac357/file
 /2025-12-04 Two Rivers South Agenda.pdf
END:VEVENT
END:VCALENDAR
