BEGIN:VCALENDAR
VERSION:2.0
PRODID:SchoolNow
CALSCALE:GREGORIAN
BEGIN:VEVENT
UID:e080ca40-c572-11f0-a59e-0a58a9feac02
DTSTAMP:20260406T182225Z
SUMMARY:CDD Board Meeting - Feb. 2026 - Cancelled
LOCATION:2005 Pan Am Circle\, Suite 300\, Tampa\, FL 33607
URL;VALUE=URI:https://www.tworiverssouthcdd.com/calendar/8803731/cdd-board-
 meeting-feb-2026
DTSTART:20260205T190000Z
DTEND:20260205T200000Z
END:VEVENT
END:VCALENDAR
