BEGIN:VCALENDAR
VERSION:2.0
PRODID:SchoolNow
CALSCALE:GREGORIAN
BEGIN:VEVENT
UID:e952978e-c572-11f0-9f3f-0afff9ea838f
DTSTAMP:20260406T182249Z
SUMMARY:CDD Board Meeting - Mar. 2026
LOCATION:2005 Pan Am Circle\, Suite 300\, Tampa\, FL 33607
URL;VALUE=URI:https://www.tworiverssouthcdd.com/calendar/8803733/cdd-board-
 meeting-mar-2026
DTSTART:20260305T190000Z
DTEND:20260305T200000Z
ATTACH;FILENAME=2026-03-05 Two Rivers South Agenda.pdf;FMTTYPE=application/
 pdf:https://campussuite-storage.s3.amazonaws.com/prod/1559311/f3b77aac-bb2
 f-11f0-9be6-0affd0ed08b3/3087003/288b1ff0-31e5-11f1-8125-0affd084ed97/file
 /2026-03-05 Two Rivers South Agenda.pdf
END:VEVENT
END:VCALENDAR
