BEGIN:VCALENDAR
VERSION:2.0
PRODID:SchoolNow
CALSCALE:GREGORIAN
BEGIN:VEVENT
UID:f32f9536-c572-11f0-8a9c-0a58a9feac02
DTSTAMP:20260406T182313Z
SUMMARY:CDD Board Meeting - Apr. 2026
LOCATION:2005 Pan Am Circle\, Suite 300\, Tampa\, FL 33607
URL;VALUE=URI:https://www.tworiverssouthcdd.com/calendar/8803735/cdd-board-
 meeting-apr-2026
DTSTART:20260402T180000Z
DTEND:20260402T190000Z
ATTACH;FILENAME=2026-04-02 Two Rivers South Agenda.pdf;FMTTYPE=application/
 pdf:https://campussuite-storage.s3.amazonaws.com/prod/1559311/f3b77aac-bb2
 f-11f0-9be6-0affd0ed08b3/3087002/288af1ba-31e5-11f1-81d7-0affd084ed97/file
 /2026-04-02 Two Rivers South Agenda.pdf
END:VEVENT
END:VCALENDAR
