BEGIN:VCALENDAR
VERSION:2.0
PRODID:SchoolNow
CALSCALE:GREGORIAN
BEGIN:VEVENT
UID:fc1c4fc2-c572-11f0-acb4-0a58a9feac02
DTSTAMP:20251119T193452Z
SUMMARY:CDD Board Meeting - May 2026
LOCATION:2005 Pan Am Circle\, Suite 300\, Tampa\, FL 33607
URL;VALUE=URI:https://www.tworiverssouthcdd.com/calendar/8803737/cdd-board-
 meeting-may-2026
DTSTART:20260507T180000Z
DTEND:20260507T190000Z
END:VEVENT
END:VCALENDAR
