BEGIN:VCALENDAR
VERSION:2.0
PRODID:SchoolNow
CALSCALE:GREGORIAN
BEGIN:VEVENT
UID:0662bab6-c573-11f0-99f7-02af76d80f6f
DTSTAMP:20251119T193500Z
SUMMARY:CDD Board Meeting - Jun. 2026
LOCATION:2005 Pan Am Circle\, Suite 300\, Tampa\, FL 33607
URL;VALUE=URI:https://www.tworiverssouthcdd.com/calendar/8803738/cdd-board-
 meeting-jun-2026
DTSTART:20260604T180000Z
DTEND:20260604T190000Z
END:VEVENT
END:VCALENDAR
