BEGIN:VCALENDAR
VERSION:2.0
PRODID:SchoolNow
CALSCALE:GREGORIAN
BEGIN:VEVENT
UID:0ed312a4-c573-11f0-b3a1-0a58a9feac02
DTSTAMP:20251119T193508Z
SUMMARY:CDD Board Meeting - Jul. 2026
LOCATION:2005 Pan Am Circle\, Suite 300\, Tampa\, FL 33607
URL;VALUE=URI:https://www.tworiverssouthcdd.com/calendar/8803740/cdd-board-
 meeting-jul-2026
DTSTART:20260702T180000Z
DTEND:20260702T190000Z
END:VEVENT
END:VCALENDAR
