BEGIN:VCALENDAR
VERSION:2.0
PRODID:SchoolNow
CALSCALE:GREGORIAN
BEGIN:VEVENT
UID:19bfb6a4-c573-11f0-8e6f-02af76d80f6f
DTSTAMP:20251119T193515Z
SUMMARY:CDD Board Meeting - Aug. 2026
LOCATION:2005 Pan Am Circle\, Suite 300\, Tampa\, FL 33607
URL;VALUE=URI:https://www.tworiverssouthcdd.com/calendar/8803741/cdd-board-
 meeting-aug-2026
DTSTART:20260806T180000Z
DTEND:20260806T190000Z
END:VEVENT
END:VCALENDAR
