BEGIN:VCALENDAR
VERSION:2.0
PRODID:SchoolNow
CALSCALE:GREGORIAN
BEGIN:VEVENT
UID:26b54644-c573-11f0-b00d-025da0cf94e5
DTSTAMP:20251119T193522Z
SUMMARY:CDD Board Meeting - Sept. 2026
LOCATION:2005 Pan Am Circle\, Suite 300\, Tampa\, FL 33607
URL;VALUE=URI:https://www.tworiverssouthcdd.com/calendar/8803742/cdd-board-
 meeting-sept-2026
DTSTART:20260903T180000Z
DTEND:20260903T190000Z
END:VEVENT
END:VCALENDAR
