BEGIN:VCALENDAR
VERSION:2.0
PRODID:SchoolNow
CALSCALE:GREGORIAN
BEGIN:VEVENT
UID:ef0ac36c-31de-11f1-a676-0a58a9feac02
DTSTAMP:20260406T182417Z
SUMMARY:CDD Board Meeting - Jul. 2025
LOCATION:2005 Pan Am Circle\, Suite 300\, Tampa\, FL 33607
URL;VALUE=URI:https://www.tworiverssouthcdd.com/calendar/8974866/cdd-board-
 meeting-jul-2025
DTSTART:20250710T180000Z
DTEND:20250710T190000Z
ATTACH;FILENAME=2025-07-10 Two Rivers South Agenda.pdf;FMTTYPE=application/
 pdf:https://campussuite-storage.s3.amazonaws.com/prod/1559311/f3b77aac-bb2
 f-11f0-9be6-0affd0ed08b3/3034023/e667c906-bbfc-11f0-ba22-0e058de3dd31/file
 /2025-07-10 Two Rivers South Agenda.pdf
END:VEVENT
END:VCALENDAR
