BEGIN:VCALENDAR
VERSION:2.0
PRODID:SchoolNow
CALSCALE:GREGORIAN
BEGIN:VEVENT
UID:02cd0e28-31df-11f1-95ed-0a58a9feac02
DTSTAMP:20260406T182458Z
SUMMARY:CDD Board Meeting - Jun. 2025
LOCATION:2005 Pan Am Circle\, Suite 300\, Tampa\, FL 33607
URL;VALUE=URI:https://www.tworiverssouthcdd.com/calendar/8974867/cdd-board-
 meeting-jun-2025
DTSTART:20250605T180000Z
DTEND:20250605T190000Z
ATTACH;FILENAME=2025-06-05 Two Rivers South Agenda.pdf;FMTTYPE=application/
 pdf:https://campussuite-storage.s3.amazonaws.com/prod/1559311/f3b77aac-bb2
 f-11f0-9be6-0affd0ed08b3/3034021/e667c618-bbfc-11f0-80eb-0e058de3dd31/file
 /2025-06-05 Two Rivers South Agenda.pdf
END:VEVENT
END:VCALENDAR
