BEGIN:VCALENDAR
VERSION:2.0
PRODID:SchoolNow
CALSCALE:GREGORIAN
BEGIN:VEVENT
UID:14026b02-31df-11f1-98c1-0ea95dd34c39
DTSTAMP:20260406T182537Z
SUMMARY:CDD Board Meeting - May 2025
LOCATION:2005 Pan Am Circle\, Suite 300\, Tampa\, FL 33607
URL;VALUE=URI:https://www.tworiverssouthcdd.com/calendar/8974868/cdd-board-
 meeting-may-2025
DTSTART:20250501T180000Z
DTEND:20250501T190000Z
ATTACH;FILENAME=2025-05-01 Two Rivers South Agenda.pdf;FMTTYPE=application/
 pdf:https://campussuite-storage.s3.amazonaws.com/prod/1559311/f3b77aac-bb2
 f-11f0-9be6-0affd0ed08b3/3034020/e667c492-bbfc-11f0-b6d1-0e058de3dd31/file
 /2025-05-01 Two Rivers South Agenda.pdf
END:VEVENT
END:VCALENDAR
